BEGIN:VCALENDAR
VERSION:2.0
PRODID:-//St Austell Town - ECPv5.16.3.1//NONSGML v1.0//EN
CALSCALE:GREGORIAN
METHOD:PUBLISH
X-WR-CALNAME:St Austell Town
X-ORIGINAL-URL:https://www.staustelltown.co.uk
X-WR-CALDESC:Events for St Austell Town
BEGIN:VTIMEZONE
TZID:UTC
BEGIN:STANDARD
TZOFFSETFROM:+0000
TZOFFSETTO:+0000
TZNAME:UTC
DTSTART:20240101T000000
END:STANDARD
END:VTIMEZONE
BEGIN:VEVENT
DTSTART;TZID=UTC:20241027T150000
DTEND;TZID=UTC:20241027T180000
DTSTAMP:20260421T144132
CREATED:20241018T101429Z
LAST-MODIFIED:20241021T092604Z
UID:11768-1730041200-1730052000@www.staustelltown.co.uk
SUMMARY:An Audience with A F Steadman
DESCRIPTION:St John’s Methodist Church\, Bodmin Road\, St Austell\, Cornwall PL25 5AE \nOnly £5.00 each \nDoors open: 3 pm – 6 pm \nTickets are now available: \nhttps://wherereadingrocks.com/event/an-audience-with-af-steadman-by-st-austell-festival-of-childrens-literature/ \nA.F. Steadman will host a highly anticipated signing event in St Austell on Sunday\, 27th October\, where she’ll be discussing her latest release\, Skandar and the Skeleton Curse\, the fourth book in her acclaimed SKANDAR series. \nThis popular fantasy series features bloodthirsty unicorns\, epic sky battles\, and magic\, has been captivating young readers over the age of nine since it was first published two years ago. \nThe latest instalment has already made waves\, hitting Number 2 in the UK Children’s book chart and becoming a top 10 bestseller in the general UK book chart. All of this in the week of UK publishing’s ‘Super Thursday’ – a day where over 1900 books were published in the UK alone.  \nSteadman’s book launches are renowned for their global tours\, and during her last visit to Cornwall for the St Austell Festival of Children’s Literature in June 2024\, she attracted hundreds of enthusiastic young fans who queued for up to four hours to meet her. \nhttps://www.facebook.com/profile.php?id=100090003774954 \n 
URL:https://www.staustelltown.co.uk/event/an-audience-with-a-f-steadman/
LOCATION:St John’s Methodist Church\, PL25 5AE
ATTACH;FMTTYPE=image/jpeg:https://www.staustelltown.co.uk/wp-content/uploads/2024/10/AF-Steadman.jpg
END:VEVENT
END:VCALENDAR