BEGIN:VCALENDAR
VERSION:2.0
PRODID:-//St Austell Town - ECPv5.16.3.1//NONSGML v1.0//EN
CALSCALE:GREGORIAN
METHOD:PUBLISH
X-WR-CALNAME:St Austell Town
X-ORIGINAL-URL:https://www.staustelltown.co.uk
X-WR-CALDESC:Events for St Austell Town
BEGIN:VTIMEZONE
TZID:UTC
BEGIN:STANDARD
TZOFFSETFROM:+0000
TZOFFSETTO:+0000
TZNAME:UTC
DTSTART:20220101T000000
END:STANDARD
END:VTIMEZONE
BEGIN:VEVENT
DTSTART;TZID=UTC:20221031T180000
DTEND;TZID=UTC:20221031T190000
DTSTAMP:20260425T193025
CREATED:20220929T093837Z
LAST-MODIFIED:20220929T093837Z
UID:4055-1667239200-1667242800@www.staustelltown.co.uk
SUMMARY:Children's Mocktail Evening
DESCRIPTION:White River Community Church is holding an evening of Mocktails for Children. \nJoin them for some fun and exotic tasting cocktails for children at their Ark Cafe on Trinity Street.
URL:https://www.staustelltown.co.uk/event/childrens-mocktail-evening/
LOCATION:White River Community Church\, Trinity Street\, St Austell\, Cornwall\, PL25 5LS\, United Kingdom
CATEGORIES:Community engagement
END:VEVENT
END:VCALENDAR