BEGIN:VCALENDAR
VERSION:2.0
PRODID:-//St Austell Town - ECPv5.16.3.1//NONSGML v1.0//EN
CALSCALE:GREGORIAN
METHOD:PUBLISH
X-WR-CALNAME:St Austell Town
X-ORIGINAL-URL:https://www.staustelltown.co.uk
X-WR-CALDESC:Events for St Austell Town
BEGIN:VTIMEZONE
TZID:UTC
BEGIN:STANDARD
TZOFFSETFROM:+0000
TZOFFSETTO:+0000
TZNAME:UTC
DTSTART:20230101T000000
END:STANDARD
END:VTIMEZONE
BEGIN:VEVENT
DTSTART;TZID=UTC:20231224T163000
DTEND;TZID=UTC:20231224T173000
DTSTAMP:20260421T212344
CREATED:20230905T121144Z
LAST-MODIFIED:20230905T121239Z
UID:6484-1703435400-1703439000@www.staustelltown.co.uk
SUMMARY:Christingle
DESCRIPTION:Christmas Eve Cristingle service 4.30 pm
URL:https://www.staustelltown.co.uk/event/christingle/
LOCATION:Holy Trinity\, Church Street\, St. Austell\, Cornwall\, PL25 5PL\, United Kingdom
CATEGORIES:Community engagement
ATTACH;FMTTYPE=image/jpeg:https://www.staustelltown.co.uk/wp-content/uploads/2017/04/Screen-Shot-2017-04-18-at-22.35.10.jpg
END:VEVENT
END:VCALENDAR