BEGIN:VCALENDAR
VERSION:2.0
PRODID:-//St Austell Town - ECPv5.16.3.1//NONSGML v1.0//EN
CALSCALE:GREGORIAN
METHOD:PUBLISH
X-WR-CALNAME:St Austell Town
X-ORIGINAL-URL:https://www.staustelltown.co.uk
X-WR-CALDESC:Events for St Austell Town
BEGIN:VTIMEZONE
TZID:UTC
BEGIN:STANDARD
TZOFFSETFROM:+0000
TZOFFSETTO:+0000
TZNAME:UTC
DTSTART:20250101T000000
END:STANDARD
END:VTIMEZONE
BEGIN:VEVENT
DTSTART;TZID=UTC:20250804T090000
DTEND;TZID=UTC:20250809T160000
DTSTAMP:20260424T150607
CREATED:20250728T135103Z
LAST-MODIFIED:20250728T145739Z
UID:11893-1754298000-1754755200@www.staustelltown.co.uk
SUMMARY:Flowerpot Fairy Garden Competition
DESCRIPTION:ST AUSTELL LIBRARY \nDesign and make the fairy garden of your dreams in a flower pot. \nCompetition for ages 4-11. FREE to enter. \nDrop off at the library  4th – 9th August.
URL:https://www.staustelltown.co.uk/event/flowerpot-fairy-garden-competition/
LOCATION:St. Austell Library\, 2 Carlyon Rd\, St. Austell\, Cornwall\, PL25 4LD\, United Kingdom
CATEGORIES:Community engagement,Display,Family Fun
ORGANIZER;CN="St.%20Austell%20Library":MAILTO:staustell.library@cornwall.gov.uk
END:VEVENT
END:VCALENDAR