BEGIN:VCALENDAR
VERSION:2.0
PRODID:-//St Austell Town - ECPv5.16.3.1//NONSGML v1.0//EN
CALSCALE:GREGORIAN
METHOD:PUBLISH
X-WR-CALNAME:St Austell Town
X-ORIGINAL-URL:https://www.staustelltown.co.uk
X-WR-CALDESC:Events for St Austell Town
BEGIN:VTIMEZONE
TZID:UTC
BEGIN:STANDARD
TZOFFSETFROM:+0000
TZOFFSETTO:+0000
TZNAME:UTC
DTSTART:20220101T000000
END:STANDARD
END:VTIMEZONE
BEGIN:VEVENT
DTSTART;TZID=UTC:20220818T100000
DTEND;TZID=UTC:20220818T140000
DTSTAMP:20260425T223435
CREATED:20220726T130812Z
LAST-MODIFIED:20220726T130812Z
UID:3971-1660816800-1660831200@www.staustelltown.co.uk
SUMMARY:FREE Dance Classes
DESCRIPTION:Free Taster Dance Classes. \nPole Squirrel  South Sq  10 – 2 \nStudio 4 Dance Alymer Sq  10 – 2 \nEveryone welcome \n(will be indoors if raining)
URL:https://www.staustelltown.co.uk/event/free-dance-classes-2/
LOCATION:White River Place\, St. Austell\, Cornwall\, PL25 \, United Kingdom
CATEGORIES:Workshop
END:VEVENT
END:VCALENDAR