BEGIN:VCALENDAR
VERSION:2.0
PRODID:-//St Austell Town - ECPv5.16.3.1//NONSGML v1.0//EN
CALSCALE:GREGORIAN
METHOD:PUBLISH
X-WR-CALNAME:St Austell Town
X-ORIGINAL-URL:https://www.staustelltown.co.uk
X-WR-CALDESC:Events for St Austell Town
BEGIN:VTIMEZONE
TZID:UTC
BEGIN:STANDARD
TZOFFSETFROM:+0000
TZOFFSETTO:+0000
TZNAME:UTC
DTSTART:20240101T000000
END:STANDARD
END:VTIMEZONE
BEGIN:VEVENT
DTSTART;TZID=UTC:20240820T110000
DTEND;TZID=UTC:20240820T150000
DTSTAMP:20260421T131320
CREATED:20240704T115637Z
LAST-MODIFIED:20240704T115719Z
UID:11711-1724151600-1724166000@www.staustelltown.co.uk
SUMMARY:Interactive Table Tennis
DESCRIPTION:This interactive table tennis will take place in Alymer Square between 11 am & 3 pm. \nEveryone is welcome to join in. \nThese sessions will be run by St Austell Tabel Tennis Club.
URL:https://www.staustelltown.co.uk/event/interactive-table-tennis-2/
LOCATION:Aylmer Square\, Aylmer Square\, St Austell\, United Kingdom
END:VEVENT
END:VCALENDAR