BEGIN:VCALENDAR
VERSION:2.0
PRODID:-//St Austell Town - ECPv5.16.3.1//NONSGML v1.0//EN
CALSCALE:GREGORIAN
METHOD:PUBLISH
X-WR-CALNAME:St Austell Town
X-ORIGINAL-URL:https://www.staustelltown.co.uk
X-WR-CALDESC:Events for St Austell Town
BEGIN:VTIMEZONE
TZID:UTC
BEGIN:STANDARD
TZOFFSETFROM:+0000
TZOFFSETTO:+0000
TZNAME:UTC
DTSTART:20250101T000000
END:STANDARD
END:VTIMEZONE
BEGIN:VEVENT
DTSTART;TZID=UTC:20250815T130000
DTEND;TZID=UTC:20250815T150000
DTSTAMP:20260424T133040
CREATED:20250728T141004Z
LAST-MODIFIED:20250728T141004Z
UID:11895-1755262800-1755270000@www.staustelltown.co.uk
SUMMARY:Invertebrate Refugia/Carnivorous Bog Talks
DESCRIPTION:ST AUSTELL LIBRARY  1 – 2 pm \nA talk with Phil Young from the Eden Project. All about bugs\, creepy crawlies and seashore creatures and where they live.  For ages 4 +. \nTickets £2 from the Library. \nST AUSTELL LIBRARY 2 – 3 pm \nA talk with Julie Kendall from the Eden Project about carnivorous plants. For ages 4 +. \nTickets £2 from the library.
URL:https://www.staustelltown.co.uk/event/invertebrate-refugia-carnivorous-bog-talks/
LOCATION:St. Austell Library\, 2 Carlyon Rd\, St. Austell\, Cornwall\, PL25 4LD\, United Kingdom
CATEGORIES:Talk
ORGANIZER;CN="St.%20Austell%20Library":MAILTO:staustell.library@cornwall.gov.uk
END:VEVENT
END:VCALENDAR