BEGIN:VCALENDAR
VERSION:2.0
PRODID:-//St Austell Town - ECPv5.16.3.1//NONSGML v1.0//EN
CALSCALE:GREGORIAN
METHOD:PUBLISH
X-WR-CALNAME:St Austell Town
X-ORIGINAL-URL:https://www.staustelltown.co.uk
X-WR-CALDESC:Events for St Austell Town
BEGIN:VTIMEZONE
TZID:UTC
BEGIN:STANDARD
TZOFFSETFROM:+0000
TZOFFSETTO:+0000
TZNAME:UTC
DTSTART:20220101T000000
END:STANDARD
END:VTIMEZONE
BEGIN:VEVENT
DTSTART;TZID=UTC:20220813T100000
DTEND;TZID=UTC:20220813T160000
DTSTAMP:20260426T015521
CREATED:20220523T123915Z
LAST-MODIFIED:20220523T124344Z
UID:3889-1660384800-1660406400@www.staustelltown.co.uk
SUMMARY:Makers Market
DESCRIPTION:Makers Market\nWe will be hosting a Makers Markets\, on the 2nd Saturday of each quarter of 2022\, from 10 am to 4 pm.\n\nDates for 2022 are:\n\n13th August\n12th November\n\nFollowing on from the success of the arts\, crafts & music events we held last year\, we want to embrace the heritage that surrounds us in the market house by hosting a Makers Market and we think we have the perfect venue to set the scene.\n\nThe first of its kind at the market house\, the events team are pleased to bring you a specially selected gathering of local guest traders plus many of our resident traders will be showcasing their goodies too.\n\nAlways on a Saturday we will have a broad mix of crafters\, makers\, artisans\, artists\, vintage makers & antique collectors\, up cyclers\, recyclers and so much more\, plus look out for details of trader workshops taking place on the day.\n\n\n\nFollow our social media pages for a full lineup of stallholders nearer to the time of each event. Look forward to seeing you there!\n\n\n\nPitches available! Stallholders MUST hold current Public Liability Insurance. Please email eventsstaustellmh@gmail.com to express an interest\, for more details and to book your pitch today!
URL:https://www.staustelltown.co.uk/event/makers-market/
LOCATION:St. Austell Market House\, Market Street\, St. Austell\, Cornwall\, PL25 5QA\, United Kingdom
ATTACH;FMTTYPE=image/jpeg:https://www.staustelltown.co.uk/wp-content/uploads/2022/02/pottery-cups-mugs-.jpg
END:VEVENT
END:VCALENDAR