BEGIN:VCALENDAR
VERSION:2.0
PRODID:-//St Austell Town - ECPv5.16.3.1//NONSGML v1.0//EN
CALSCALE:GREGORIAN
METHOD:PUBLISH
X-WR-CALNAME:St Austell Town
X-ORIGINAL-URL:https://www.staustelltown.co.uk
X-WR-CALDESC:Events for St Austell Town
BEGIN:VTIMEZONE
TZID:UTC
BEGIN:STANDARD
TZOFFSETFROM:+0000
TZOFFSETTO:+0000
TZNAME:UTC
DTSTART:20240101T000000
END:STANDARD
END:VTIMEZONE
BEGIN:VEVENT
DTSTART;TZID=UTC:20240522T140000
DTEND;TZID=UTC:20240522T170000
DTSTAMP:20260421T130009
CREATED:20240520T134442Z
LAST-MODIFIED:20240520T134942Z
UID:11677-1716386400-1716397200@www.staustelltown.co.uk
SUMMARY:Meet the Brewers
DESCRIPTION:TAP TAKEOVER \n\nTHE RANN WATHER INVITE YOU TO MEET THE BREWERS\n\nKeltek Brewery is coming out to The Rann Wather to give free samples and discuss their new products.\n\nFood tasters are also available. \n 
URL:https://www.staustelltown.co.uk/event/meet-the-brewers/
LOCATION:The Rann Wather
CATEGORIES:Community engagement
ATTACH;FMTTYPE=image/png:https://www.staustelltown.co.uk/wp-content/uploads/2020/01/jd-wetherspoon.fw_.png
END:VEVENT
END:VCALENDAR