BEGIN:VCALENDAR
VERSION:2.0
PRODID:-//St Austell Town - ECPv5.16.3.1//NONSGML v1.0//EN
CALSCALE:GREGORIAN
METHOD:PUBLISH
X-WR-CALNAME:St Austell Town
X-ORIGINAL-URL:https://www.staustelltown.co.uk
X-WR-CALDESC:Events for St Austell Town
BEGIN:VTIMEZONE
TZID:UTC
BEGIN:STANDARD
TZOFFSETFROM:+0000
TZOFFSETTO:+0000
TZNAME:UTC
DTSTART:20250101T000000
END:STANDARD
END:VTIMEZONE
BEGIN:VEVENT
DTSTART;TZID=UTC:20250728T143000
DTEND;TZID=UTC:20250728T153000
DTSTAMP:20260424T133116
CREATED:20250728T145143Z
LAST-MODIFIED:20250728T145143Z
UID:11904-1753713000-1753716600@www.staustelltown.co.uk
SUMMARY:STEM Workshop with the Royal Navy
DESCRIPTION:St Austell Library   2.30 pm – 3.30 pm    FREE \nPerfect for ages 10 – 12 \nExplore electronics and pneumatics with a Royal Navy STEM Ambassador. \nBook online    www.ticketsource.co.uk/staustelllibrary \nSTEM for kids refers to an educational approach that focuses on Science\, Technology\, Engineering\, and Mathematics. It aims to equip children with skills in these key areas\, fostering critical thinking\, problem-solving\, and creativity. STEM learning can be integrated into various activities\, from building with blocks to conducting science experiments\, making it both engaging and beneficial for children. 
URL:https://www.staustelltown.co.uk/event/stem-workshop-with-the-royal-navy/
LOCATION:St. Austell Library\, 2 Carlyon Rd\, St. Austell\, Cornwall\, PL25 4LD\, United Kingdom
CATEGORIES:Talk
ORGANIZER;CN="St.%20Austell%20Library":MAILTO:staustell.library@cornwall.gov.uk
END:VEVENT
END:VCALENDAR