BEGIN:VCALENDAR
VERSION:2.0
PRODID:-//St Austell Town - ECPv5.16.3.1//NONSGML v1.0//EN
CALSCALE:GREGORIAN
METHOD:PUBLISH
X-WR-CALNAME:St Austell Town
X-ORIGINAL-URL:https://www.staustelltown.co.uk
X-WR-CALDESC:Events for St Austell Town
BEGIN:VTIMEZONE
TZID:UTC
BEGIN:STANDARD
TZOFFSETFROM:+0000
TZOFFSETTO:+0000
TZNAME:UTC
DTSTART:20220101T000000
END:STANDARD
END:VTIMEZONE
BEGIN:VEVENT
DTSTART;TZID=UTC:20220611T110000
DTEND;TZID=UTC:20220611T160000
DTSTAMP:20260426T015506
CREATED:20220530T092248Z
LAST-MODIFIED:20220530T092406Z
UID:3910-1654945200-1654963200@www.staustelltown.co.uk
SUMMARY:The Glam Performance
DESCRIPTION:  \nSaturday 11 th June. Performance times 11 am and 2 pm\nEtta Ermini Dance Company and Van Huynh Company – (London)\nThis amazing London based collaboration will bring two free public performances of\ntheir innovative new show ‘GLAM’ to St. Austell Town Centre along with students\nfrom St. Austell College.\nLink to the show – https://www.ettaermini.com/portfolio/glam/ \nPolyrhythm are a musical instrument library based in Bodmin offering free access to\ninstruments to people of all ages\, backgrounds and musical abilities. Polyrhythm will\nbe busking around St. Austell on June 11 th promoting the Cultural Celebration and\nCommunity Championship which takes place the following Saturday\, June 18th . \n 
URL:https://www.staustelltown.co.uk/event/the-glam-performance/
LOCATION:St. Austell Town Center\, Fore St. \, St. Austell\, Cornwall\, PL25 5PX\, United Kingdom
CATEGORIES:Community engagement,Display,Family Fun,Music
END:VEVENT
END:VCALENDAR