BEGIN:VCALENDAR
VERSION:2.0
PRODID:-//St Austell Town - ECPv5.16.3.1//NONSGML v1.0//EN
CALSCALE:GREGORIAN
METHOD:PUBLISH
X-WR-CALNAME:St Austell Town
X-ORIGINAL-URL:https://www.staustelltown.co.uk
X-WR-CALDESC:Events for St Austell Town
BEGIN:VTIMEZONE
TZID:UTC
BEGIN:STANDARD
TZOFFSETFROM:+0000
TZOFFSETTO:+0000
TZNAME:UTC
DTSTART:20240101T000000
END:STANDARD
END:VTIMEZONE
BEGIN:VEVENT
DTSTART;TZID=UTC:20240824T120000
DTEND;TZID=UTC:20240824T150000
DTSTAMP:20260421T114607
CREATED:20240522T140032Z
LAST-MODIFIED:20240806T104645Z
UID:11701-1724500800-1724511600@www.staustelltown.co.uk
SUMMARY:TRURO PARK FUN DAY
DESCRIPTION:Fun day for all the family \n 
URL:https://www.staustelltown.co.uk/event/truro-park-fun-day/
LOCATION:St. Austell Market House\, Market Street\, St. Austell\, Cornwall\, PL25 5QA\, United Kingdom
END:VEVENT
END:VCALENDAR