BEGIN:VCALENDAR
VERSION:2.0
PRODID:-//St Austell Town - ECPv5.16.3.1//NONSGML v1.0//EN
CALSCALE:GREGORIAN
METHOD:PUBLISH
X-WR-CALNAME:St Austell Town
X-ORIGINAL-URL:https://www.staustelltown.co.uk
X-WR-CALDESC:Events for St Austell Town
BEGIN:VTIMEZONE
TZID:UTC
BEGIN:STANDARD
TZOFFSETFROM:+0000
TZOFFSETTO:+0000
TZNAME:UTC
DTSTART:20250101T000000
END:STANDARD
END:VTIMEZONE
BEGIN:VEVENT
DTSTART;TZID=UTC:20251031T180000
DTEND;TZID=UTC:20251031T193000
DTSTAMP:20260424T163344
CREATED:20220202T164259Z
LAST-MODIFIED:20250115T143539Z
UID:3638-1761933600-1761939000@www.staustelltown.co.uk
SUMMARY:Zombie Walk
DESCRIPTION:The town’s annual walkabout for all Zombies and ghouls. Starting at the Market House and ending at Alymer Square for the thriller dance\, weather permitting.
URL:https://www.staustelltown.co.uk/event/zombie-walk-3/
LOCATION:St. Austell Market House\, Market Street\, St. Austell\, Cornwall\, PL25 5QA\, United Kingdom
CATEGORIES:Family Fun
ATTACH;FMTTYPE=image/jpeg:https://www.staustelltown.co.uk/wp-content/uploads/2017/10/zombie-1.jpg
END:VEVENT
END:VCALENDAR