BEGIN:VCALENDAR
VERSION:2.0
PRODID:-//St Austell Town - ECPv5.16.3.1//NONSGML v1.0//EN
CALSCALE:GREGORIAN
METHOD:PUBLISH
X-WR-CALNAME:St Austell Town
X-ORIGINAL-URL:https://www.staustelltown.co.uk
X-WR-CALDESC:Events for St Austell Town
BEGIN:VTIMEZONE
TZID:UTC
BEGIN:STANDARD
TZOFFSETFROM:+0000
TZOFFSETTO:+0000
TZNAME:UTC
DTSTART:20230101T000000
END:STANDARD
END:VTIMEZONE
BEGIN:VEVENT
DTSTART;TZID=UTC:20230404T100000
DTEND;TZID=UTC:20230406T123000
DTSTAMP:20260424T084223
CREATED:20220523T124125Z
LAST-MODIFIED:20230314T150231Z
UID:3891-1680602400-1680784200@www.staustelltown.co.uk
SUMMARY:Super Heroes Holiday Club
DESCRIPTION:Super Heroes Holiday Club  10 am – 12.30 pm \nFor children 1 – 6 years old \nCome and explore some of the great superheroes of the bible. \nStories\, Songs\, Games\, Crafts and a free lunch
URL:https://www.staustelltown.co.uk/event/makers-market-2/
LOCATION:Holy Trinity\, Church Street\, St. Austell\, Cornwall\, PL25 5PL\, United Kingdom
CATEGORIES:Community engagement,Family Fun,Festival
ATTACH;FMTTYPE=image/png:https://www.staustelltown.co.uk/wp-content/uploads/2022/05/Superheroes-.png
END:VEVENT
END:VCALENDAR