BEGIN:VCALENDAR
VERSION:2.0
PRODID:-//St Austell Town - ECPv5.16.3.1//NONSGML v1.0//EN
CALSCALE:GREGORIAN
METHOD:PUBLISH
X-WR-CALNAME:St Austell Town
X-ORIGINAL-URL:https://www.staustelltown.co.uk
X-WR-CALDESC:Events for St Austell Town
BEGIN:VTIMEZONE
TZID:UTC
BEGIN:STANDARD
TZOFFSETFROM:+0000
TZOFFSETTO:+0000
TZNAME:UTC
DTSTART:20230101T000000
END:STANDARD
END:VTIMEZONE
BEGIN:VEVENT
DTSTART;TZID=UTC:20231031T170000
DTEND;TZID=UTC:20231031T183000
DTSTAMP:20260422T002732
CREATED:20231020T144710Z
LAST-MODIFIED:20231020T144710Z
UID:11357-1698771600-1698777000@www.staustelltown.co.uk
SUMMARY:LIGHT FEST
DESCRIPTION:Crafts\, Games\, Neon Silent Disco\, Refreshments\, Toddler Playzone & More
URL:https://www.staustelltown.co.uk/event/light-fest/
LOCATION:Holy Trinity\, Church Street\, St. Austell\, Cornwall\, PL25 5PL\, United Kingdom
END:VEVENT
END:VCALENDAR