BEGIN:VCALENDAR
VERSION:2.0
PRODID:-//St Austell Town - ECPv5.16.3.1//NONSGML v1.0//EN
CALSCALE:GREGORIAN
METHOD:PUBLISH
X-WR-CALNAME:St Austell Town
X-ORIGINAL-URL:https://www.staustelltown.co.uk
X-WR-CALDESC:Events for St Austell Town
BEGIN:VTIMEZONE
TZID:UTC
BEGIN:STANDARD
TZOFFSETFROM:+0000
TZOFFSETTO:+0000
TZNAME:UTC
DTSTART:20230101T000000
END:STANDARD
END:VTIMEZONE
BEGIN:VEVENT
DTSTART;TZID=UTC:20231109T183000
DTEND;TZID=UTC:20231109T200000
DTSTAMP:20260421T230026
CREATED:20231018T104005Z
LAST-MODIFIED:20231018T104034Z
UID:11022-1699554600-1699560000@www.staustelltown.co.uk
SUMMARY:Town Scape Heritage Talk
DESCRIPTION:
URL:https://www.staustelltown.co.uk/event/town-scape-heritage-talk/
LOCATION:St. Austell Library\, 2 Carlyon Rd\, St. Austell\, Cornwall\, PL25 4LD\, United Kingdom
CATEGORIES:Talk,Talk
ATTACH;FMTTYPE=image/jpeg:https://www.staustelltown.co.uk/wp-content/uploads/2023/10/St-Austell-Townscape-Heritage-Talk-scaled.jpg
END:VEVENT
END:VCALENDAR