BEGIN:VCALENDAR
VERSION:2.0
PRODID:-//St Austell Town - ECPv5.16.3.1//NONSGML v1.0//EN
CALSCALE:GREGORIAN
METHOD:PUBLISH
X-WR-CALNAME:St Austell Town
X-ORIGINAL-URL:https://www.staustelltown.co.uk
X-WR-CALDESC:Events for St Austell Town
BEGIN:VTIMEZONE
TZID:UTC
BEGIN:STANDARD
TZOFFSETFROM:+0000
TZOFFSETTO:+0000
TZNAME:UTC
DTSTART:20240101T000000
END:STANDARD
END:VTIMEZONE
BEGIN:VEVENT
DTSTART;TZID=UTC:20240420T100000
DTEND;TZID=UTC:20240420T150000
DTSTAMP:20260421T145149
CREATED:20180314T155658Z
LAST-MODIFIED:20240125T145002Z
UID:881-1713607200-1713625200@www.staustelltown.co.uk
SUMMARY:Hand Made Market
DESCRIPTION:This popular Market is held every other Saturday in White River Place. This is weather dependent.
URL:https://www.staustelltown.co.uk/event/hand-made-market/
LOCATION:White River Place\, St. Austell\, Cornwall\, PL25 \, United Kingdom
CATEGORIES:Markets
ATTACH;FMTTYPE=image/jpeg:https://www.staustelltown.co.uk/wp-content/uploads/2017/04/0316-0035-PR4Photos-DCA-White-River-Place.jpg
END:VEVENT
END:VCALENDAR