BEGIN:VCALENDAR
VERSION:2.0
PRODID:-//St Austell Town - ECPv5.16.3.1//NONSGML v1.0//EN
CALSCALE:GREGORIAN
METHOD:PUBLISH
X-WR-CALNAME:St Austell Town
X-ORIGINAL-URL:https://www.staustelltown.co.uk
X-WR-CALDESC:Events for St Austell Town
BEGIN:VTIMEZONE
TZID:UTC
BEGIN:STANDARD
TZOFFSETFROM:+0000
TZOFFSETTO:+0000
TZNAME:UTC
DTSTART:20240101T000000
END:STANDARD
END:VTIMEZONE
BEGIN:VEVENT
DTSTART;TZID=UTC:20240428T093000
DTEND;TZID=UTC:20240428T170000
DTSTAMP:20260421T145132
CREATED:20240423T082840Z
LAST-MODIFIED:20240423T112219Z
UID:11670-1714296600-1714323600@www.staustelltown.co.uk
SUMMARY:Wellbeing at Pinetum Gardens
DESCRIPTION:Wellbeing Event for Sunday \n\nCommunity Together Wellbeing (part of St Austell Together) is holding a well-being event at Pinetum Gardens this Sunday (28th April) including a grounding\, breath session\, guided meditation and 20 minute pranic healing sessions.\nClick on the website https://staustelltogether.co.uk\nand choose from the menu: Wellbeing event at Pinetum\n\nAll St Austell residents and business owners can benefit from a £5 discount off all offerings. Use the code: SABID5\nLimited availability. 10% of proceeds will be donated to St Austell Food Bank.
URL:https://www.staustelltown.co.uk/event/wellbeing-at-pinetum-gardens/
LOCATION:Pinetum Gardens
ATTACH;FMTTYPE=image/jpeg:https://www.staustelltown.co.uk/wp-content/uploads/2024/04/pinetum3.jpeg
END:VEVENT
END:VCALENDAR