BEGIN:VCALENDAR
VERSION:2.0
PRODID:-//St Austell Town - ECPv5.16.3.1//NONSGML v1.0//EN
CALSCALE:GREGORIAN
METHOD:PUBLISH
X-WR-CALNAME:St Austell Town
X-ORIGINAL-URL:https://www.staustelltown.co.uk
X-WR-CALDESC:Events for St Austell Town
BEGIN:VTIMEZONE
TZID:UTC
BEGIN:STANDARD
TZOFFSETFROM:+0000
TZOFFSETTO:+0000
TZNAME:UTC
DTSTART:20240101T000000
END:STANDARD
END:VTIMEZONE
BEGIN:VEVENT
DTSTART;VALUE=DATE:20240525
DTEND;VALUE=DATE:20240603
DTSTAMP:20260421T114456
CREATED:20240520T145818Z
LAST-MODIFIED:20240520T145818Z
UID:11681-1716595200-1717372799@www.staustelltown.co.uk
SUMMARY:OPEN STUDIOS CORNWALL
DESCRIPTION:Please visit the website below for their information \nopenstudioscornwall.co.uk \n  \n 
URL:https://www.staustelltown.co.uk/event/open-studios-cornwall/
LOCATION:various
CATEGORIES:Community engagement,Display
END:VEVENT
END:VCALENDAR