BEGIN:VCALENDAR
VERSION:2.0
PRODID:-//St Austell Town - ECPv5.16.3.1//NONSGML v1.0//EN
CALSCALE:GREGORIAN
METHOD:PUBLISH
X-WR-CALNAME:St Austell Town
X-ORIGINAL-URL:https://www.staustelltown.co.uk
X-WR-CALDESC:Events for St Austell Town
BEGIN:VTIMEZONE
TZID:UTC
BEGIN:STANDARD
TZOFFSETFROM:+0000
TZOFFSETTO:+0000
TZNAME:UTC
DTSTART:20240101T000000
END:STANDARD
END:VTIMEZONE
BEGIN:VEVENT
DTSTART;TZID=UTC:20240628T110000
DTEND;TZID=UTC:20240630T160000
DTSTAMP:20260421T112743
CREATED:20240327T130411Z
LAST-MODIFIED:20240327T130411Z
UID:11665-1719572400-1719763200@www.staustelltown.co.uk
SUMMARY:St Austell Festival of Children's Literature
DESCRIPTION:St Austell will host its annual Festival of Children’s\nLiterature from June 28th to June 30th\, 2024. \nAims of the Festival\n Celebrate the fact that choosing to read improves a child’s life outcomes\n Enable children to experience a live author event\n Support families in choosing to read together\n Inspire a community that embraces reading for pleasure. \nThe full programme is available to view online. Tickets will be on sale in mid-\nApril. https://www.staustellfestivalofchildrensliterature.com/
URL:https://www.staustelltown.co.uk/event/st-austell-festival-of-childrens-literature/
LOCATION:White River Place\, St. Austell\, Cornwall\, PL25 \, United Kingdom
CATEGORIES:Festival
ATTACH;FMTTYPE=image/jpeg:https://www.staustelltown.co.uk/wp-content/uploads/2024/03/Literature-Festival-Pic-scaled.jpg
END:VEVENT
END:VCALENDAR