BEGIN:VCALENDAR
VERSION:2.0
PRODID:-//St Austell Town - ECPv5.16.3.1//NONSGML v1.0//EN
CALSCALE:GREGORIAN
METHOD:PUBLISH
X-WR-CALNAME:St Austell Town
X-ORIGINAL-URL:https://www.staustelltown.co.uk
X-WR-CALDESC:Events for St Austell Town
BEGIN:VTIMEZONE
TZID:UTC
BEGIN:STANDARD
TZOFFSETFROM:+0000
TZOFFSETTO:+0000
TZNAME:UTC
DTSTART:20240101T000000
END:STANDARD
END:VTIMEZONE
BEGIN:VEVENT
DTSTART;TZID=UTC:20240713T100000
DTEND;TZID=UTC:20240713T153000
DTSTAMP:20260421T103121
CREATED:20220216T120821Z
LAST-MODIFIED:20240125T153545Z
UID:3749-1720864800-1720884600@www.staustelltown.co.uk
SUMMARY:Hand Made Market
DESCRIPTION:This popular Market is held every other Saturday in White River Place. Weather dependent.
URL:https://www.staustelltown.co.uk/event/hand-made-market-6/
LOCATION:White River Place\, St. Austell\, Cornwall\, PL25 \, United Kingdom
CATEGORIES:Markets
ATTACH;FMTTYPE=image/jpeg:https://www.staustelltown.co.uk/wp-content/uploads/2019/07/banner1.jpg
END:VEVENT
BEGIN:VEVENT
DTSTART;TZID=UTC:20240713T130000
DTEND;TZID=UTC:20240713T150000
DTSTAMP:20260421T103121
CREATED:20240704T113254Z
LAST-MODIFIED:20240704T113254Z
UID:11705-1720875600-1720882800@www.staustelltown.co.uk
SUMMARY:Summer Concert
DESCRIPTION:The Restormal Concert Band will be in Alymer Square from 1 pm – 3 pm. \nThis concert band is something special and would encourage to come along and listen to their summer concert
URL:https://www.staustelltown.co.uk/event/summer-concert/
LOCATION:Aylmer Square\, Aylmer Square\, St Austell\, United Kingdom
END:VEVENT
END:VCALENDAR