BEGIN:VCALENDAR
VERSION:2.0
PRODID:-//St Austell Town - ECPv5.16.3.1//NONSGML v1.0//EN
CALSCALE:GREGORIAN
METHOD:PUBLISH
X-WR-CALNAME:St Austell Town
X-ORIGINAL-URL:https://www.staustelltown.co.uk
X-WR-CALDESC:Events for St Austell Town
BEGIN:VTIMEZONE
TZID:UTC
BEGIN:STANDARD
TZOFFSETFROM:+0000
TZOFFSETTO:+0000
TZNAME:UTC
DTSTART:20240101T000000
END:STANDARD
END:VTIMEZONE
BEGIN:VEVENT
DTSTART;TZID=UTC:20240720T100000
DTEND;TZID=UTC:20240720T150000
DTSTAMP:20260421T100641
CREATED:20240227T113425Z
LAST-MODIFIED:20240227T113425Z
UID:11623-1721469600-1721487600@www.staustelltown.co.uk
SUMMARY:Purple Day
DESCRIPTION:Fundraising event for Tanya’s Courage and supporting young people with cancer.
URL:https://www.staustelltown.co.uk/event/purple-day/
LOCATION:St. Austell Town Center\, Fore St. \, St. Austell\, Cornwall\, PL25 5PX\, United Kingdom
END:VEVENT
END:VCALENDAR