BEGIN:VCALENDAR
VERSION:2.0
PRODID:-//St Austell Town - ECPv5.16.3.1//NONSGML v1.0//EN
CALSCALE:GREGORIAN
METHOD:PUBLISH
X-WR-CALNAME:St Austell Town
X-ORIGINAL-URL:https://www.staustelltown.co.uk
X-WR-CALDESC:Events for St Austell Town
BEGIN:VTIMEZONE
TZID:UTC
BEGIN:STANDARD
TZOFFSETFROM:+0000
TZOFFSETTO:+0000
TZNAME:UTC
DTSTART:20240101T000000
END:STANDARD
END:VTIMEZONE
BEGIN:VEVENT
DTSTART;TZID=UTC:20241116T100000
DTEND;TZID=UTC:20241116T150000
DTSTAMP:20260421T162344
CREATED:20240315T101246Z
LAST-MODIFIED:20240315T101246Z
UID:11660-1731751200-1731769200@www.staustelltown.co.uk
SUMMARY:Hand Made Market
DESCRIPTION:Hand Made Market\n\nNovember 16 @ 10:00 am – 3:00 pm\n\n\n\n\n\nThis popular Market is held every other Saturday in White River Place. Weather dependent.
URL:https://www.staustelltown.co.uk/event/hand-made-market-17/
LOCATION:White River Place\, St. Austell\, Cornwall\, PL25 \, United Kingdom
END:VEVENT
END:VCALENDAR