BEGIN:VCALENDAR
VERSION:2.0
PRODID:-//St Austell Town - ECPv5.16.3.1//NONSGML v1.0//EN
CALSCALE:GREGORIAN
METHOD:PUBLISH
X-WR-CALNAME:St Austell Town
X-ORIGINAL-URL:https://www.staustelltown.co.uk
X-WR-CALDESC:Events for St Austell Town
BEGIN:VTIMEZONE
TZID:UTC
BEGIN:STANDARD
TZOFFSETFROM:+0000
TZOFFSETTO:+0000
TZNAME:UTC
DTSTART:20250101T000000
END:STANDARD
END:VTIMEZONE
BEGIN:VEVENT
DTSTART;TZID=UTC:20250822T143000
DTEND;TZID=UTC:20250822T163000
DTSTAMP:20260424T134018
CREATED:20250728T142519Z
LAST-MODIFIED:20250728T142519Z
UID:11900-1755873000-1755880200@www.staustelltown.co.uk
SUMMARY:The Rockpool Project
DESCRIPTION:St Austell Library 2.30 pm – 3.30 pm & 3.30 pm – 4.30 pm \nCome and see the portable rockpool and sea creatures. \nTickets £2      for ages 5 – 11
URL:https://www.staustelltown.co.uk/event/the-rockpool-project/
LOCATION:St. Austell Library\, 2 Carlyon Rd\, St. Austell\, Cornwall\, PL25 4LD\, United Kingdom
CATEGORIES:Display,Family Fun,Talk
ORGANIZER;CN="St.%20Austell%20Library":MAILTO:staustell.library@cornwall.gov.uk
END:VEVENT
END:VCALENDAR